BEGIN:VCALENDAR
PRODID:-//Microsoft Corporation//Outlook 10.0 MIMEDIR//EN
VERSION:2.0
METHOD:REQUEST
BEGIN:VTIMEZONE
TZID:America/Chicago
LAST-MODIFIED:20221105T024526Z
TZURL:https://www.tzurl.org/zoneinfo-outlook/America/Chicago
X-LIC-LOCATION:America/Chicago
BEGIN:DAYLIGHT
TZNAME:CDT
TZOFFSETFROM:-0600
TZOFFSETTO:-0500
DTSTART:19700308T020000
RRULE:FREQ=YEARLY;BYMONTH=3;BYDAY=2SU
END:DAYLIGHT
BEGIN:STANDARD
TZNAME:CST
TZOFFSETFROM:-0500
TZOFFSETTO:-0600
DTSTART:19701101T020000
RRULE:FREQ=YEARLY;BYMONTH=11;BYDAY=1SU
END:STANDARD
END:VTIMEZONE
BEGIN:VEVENT
DTSTAMP:20260409T205302Z
ATTENDEE;CN="Nuvite Chemical";ROLE=REQ-PARTICIPANT;RSVP=FALSE:MAILTO:radarae@universalphotonics.com
ORGANIZER;CN="Cisco Webex":MAILTO:messenger@webex.com
DTSTART;TZID=America/Chicago:20260428T090000
DTEND;TZID=America/Chicago:20260428T103000
LOCATION:https://jenl.my.webex.com/jenl.my/j.php?MTID=m0a100d91b404098f89da7e41cfe4f2dc
TRANSP:OPAQUE
SEQUENCE:1775767982
UID:fe13ecf6-4c80-46fa-8bd4-bb118d05a227
DESCRIPTION:\n\n\nJOIN WEBEX MEETING\nhttps://jenl.my.webex.com/jenl.my/j.php?MTID=m0a100d91b404098f89da7e41cfe4f2dc\nMeeting number (access code): 2632 393 6391\n\n\nMeeting password: xmUqQMxn737 (96877696 when dialing from a phone or video system)\n\n\n\nTAP TO JOIN FROM A MOBILE DEVICE (ATTENDEES ONLY)\n+1-408-418-9388,,26323936391#96877696# tel:%2B1-408-418-9388,,*01*26323936391%2396877696%23*01* United States Toll\nSome mobile devices may ask attendees to enter a numeric password.\n\n\nJOIN BY PHONE\n+1-408-418-9388 United States Toll\n\nGlobal call-in numbers\nhttps://jenl.my.webex.com/jenl.my/globalcallin.php?MTID=m543f692061bcf5ad2137ade7a4d1accd\n\n\nJOIN FROM A VIDEO SYSTEM OR APPLICATION\nDial sip:26323936391@jenl.my.webex.com\nYou can also dial 173.243.2.68 and enter your meeting number.\n\n\n\nIf you are a host, click here and login site to view host information:\nhttps://jenl.my.webex.com/webappng/sites/jenl.my/meeting/info/4ee04b712ca14cd5984ba82587e42292\n\n\n\nCan't join the meeting? Contact support here:\nhttps://jenl.my.webex.com/jenl.my/mc\n\n\nIMPORTANT NOTICE: Please note that this Webex service allows audio and other information sent during the session to be recorded, which may be discoverable in a legal matter. You should inform all meeting attendees prior to recording if you intend to record the meeting.\n
X-ALT-DESC;FMTTYPE=text/html:<style type="text/css">table {	border-collapse: separate; width =100%;    border: 0;    border-spacing: 0;}tr {	line-height: 18px;}a, td {	font-size: 14px;	font-family: Arial;	color: #333;	word-wrap: break-word;	word-break: normal;	padding: 0;}.title {	font-size: 28px;}.image {	width: auto;	max-width: auto;}.footer {	width: 604px;}.main {}@media screen and (max-device-width: 800px) {	.title {		font-size: 22px !important;	}	.image {		width: auto !important;		max-width: 100% !important;	}	.footer {		width: 100% !important;		max-width: 604px !important	}	.main {		width: 100% !important;		max-width: 604px !important	}}</style><table bgcolor="#FFFFFF" style="padding: 0; margin: 0; border: 0; width: 100%;direction:ltr;" align="left">	<tr style="height: 28px"><td>&nbsp;</td></tr>	<tr>		<td align="left" style="padding: 0 20px; margin: 0">			<!--<table bgcolor="#FFFFFF" style="border: 0px; width: 100%; padding-left: 50px; padding-right: 50px;" align="left" class="main">				<tr>					<td align="center" valign="top" >&nbsp;					</td>				</tr>			</table>-->			<table>				<tr>					<td>						<FONT SIZE="4" COLOR="#666666" FACE="arial">When it's time, join the Webex meeting here.</FONT>					</td>				</tr>		</table>        <table>        	<tr style="line-height: 20px;"><td style="height:20px">&nbsp;</td></tr>			<tr>				<td style="width:auto!important; ">					<table border="0" cellpadding="0" cellspacing="0" style="width:auto;width:auto!important;background-color:#00823B; border:0px solid #00823B; border-radius:25px; min-width:160px!important;">						<tr>							<td align="center" style="padding:10px 36px;"><a href="https://jenl.my.webex.com/jenl.my/j.php?MTID=m0a100d91b404098f89da7e41cfe4f2dc" style="color:#FFFFFF; font-size:20px; text-decoration:none;">Join meeting</a></td>						</tr>					</table>				</td>			</tr>		</table>		<table>			<tr style="line-height: 20px;"><td style="height:20px">&nbsp;</td></tr>			<tr>				<td>						<FONT SIZE="3" COLOR="#666666" FACE="arial">More ways to join:</FONT>				</td>        	</tr>            <tr style="line-height: 10px;"><td style="height: 10px;">&nbsp;</td></tr>        	<tr>				<td>						<FONT SIZE="3" COLOR="#666666" FACE="arial">Join from the meeting link</FONT>				</td>        	</tr>        	<tr>				<td>						<FONT SIZE="2" COLOR="#666666" FACE="arial"><a href='https://jenl.my.webex.com/jenl.my/j.php?MTID=m0a100d91b404098f89da7e41cfe4f2dc' style='color:#005E7D;  text-decoration:none; font-family: Arial;font-size: 14px;line-height: 24px;'>https://jenl.my.webex.com/jenl.my/j.php?MTID=m0a100d91b404098f89da7e41cfe4f2dc</a></FONT>				</td>        	</tr>        	<tr style="line-height: 20px;"><td style="height:20px">&nbsp;</td></tr>			<tr>				<td>						<FONT SIZE="3" COLOR="#666666" FACE="arial">Join by meeting number</FONT>				</td>        	</tr>			<tr>				<td>					<FONT SIZE="2" COLOR="#666666" FACE="arial"><span dir="ltr">Meeting number (access code):</span> <span dir="auto">2632 393 6391</span></FONT>				</td>			</tr>		</table>		<table><tr><td><FONT SIZE="2" COLOR="#666666" FACE="arial">Meeting password:</FONT></td><td><FONT SIZE="2"  COLOR="#666666" FACE="arial">xmUqQMxn737 <span dir="auto">(96877696 when dialing from a phone or video system)</span></FONT></td></tr></table> <FONT size="2" COLOR="#FF0000" style="font-family: Arial;"></FONT><FONT SIZE="1" FACE="ARIAL">&nbsp;<BR>&nbsp;<BR></FONT>&nbsp; <BR><FONT SIZE="4" FACE="ARIAL"><FONT SIZE="3" COLOR="#666666" FACE="arial">Tap to join from a mobile device (attendees only)</FONT> &nbsp; <BR><FONT SIZE="2" COLOR="#666666" FACE="arial"><a href='tel:%2B1-408-418-9388,,*01*26323936391%2396877696%23*01*' style='color:#005E7D;  text-decoration:none; font-family: Arial;font-size: 14px;line-height: 24px;'><span dir="auto">+1-408-418-9388,,26323936391#96877696#</span></a> <span dir="ltr">United States Toll</span></FONT> &nbsp; <BR><FONT SIZE="2" COLOR="#666666" FACE="arial">Some mobile devices may ask attendees to enter a numeric password.</FONT>&nbsp; <BR><BR><FONT SIZE="4" FACE="ARIAL"><FONT SIZE="3" COLOR="#666666" FACE="arial">Join by phone</FONT> &nbsp; <BR><FONT SIZE="2" COLOR="#666666" FACE="arial">+1-408-418-9388 <span dir="ltr">United States Toll</span></FONT> &nbsp; <BR><FONT SIZE="2" COLOR="#666666" FACE="arial"><a href="https://jenl.my.webex.com/jenl.my/globalcallin.php?MTID=m543f692061bcf5ad2137ade7a4d1accd" style="text-decoration:none;font-size:14px;color:#005E7D">Global call-in numbers</a></FONT>&nbsp; <BR><BR><table><tr style="line-height: 20px;"><td style="height:20px">&nbsp;</td></tr></table><FONT SIZE="4" FACE="ARIAL"><FONT SIZE="3" COLOR="#666666" FACE="arial">Join from a video system or application</FONT><BR><FONT SIZE="2" COLOR="#666666" FACE="arial" dir="ltr">Dial</FONT> <a href="sip:26323936391@jenl.my.webex.com"><FONT SIZE="2" COLOR="#005E7D" FACE="arial" dir="auto">26323936391@jenl.my.webex.com</FONT></a>&nbsp; <BR><FONT SIZE="2" COLOR="#666666" FACE="arial">You can also dial 173.243.2.68 and enter your meeting number.</FONT> &nbsp; <BR></FONT>&nbsp; <BR>	<table><tr style="line-height: 20px"><td style="height:20px">&nbsp;</td></tr></table>	<table><tr style="margin:0px"><td style="color: #333333; font-family: Arial; font-size: 14px; line-height: 24px;">If you are a host, <a href="https://jenl.my.webex.com/webappng/sites/jenl.my/meeting/info/4ee04b712ca14cd5984ba82587e42292" style="text-decoration:none;color:#005E7D">click here</a> and login site to view host information.</td></tr></table>			<table style="width: 100%;" align="left" class="main">                <tr style="height: 20px"><td>&nbsp;</td></tr>				<tr>					<td style="height: 24px; color: #000000; font-family:Arial; font-size: 14px; line-height: 24px;">Need help? Go to <a href="https://help.webex.com" style="color:#005E7D; text-decoration:none;">https://help.webex.com</a>					</td>				</tr>                <tr style="height: 44px"><td>&nbsp;</td></tr>			</table>		</td>	</tr></table>
SUMMARY:Corrosion Control- NuGlaze and Skyde Clear
PRIORITY:5
CLASS:PUBLIC
END:VEVENT
END:VCALENDAR
